Package: iModMixData Version: 1.1.0 Command: /home/biocbuild/bbs-3.23-bioc/R/bin/R CMD build --keep-empty-dirs --no-resave-data iModMixData StartedAt: 2025-10-30 11:22:44 -0400 (Thu, 30 Oct 2025) EndedAt: 2025-10-30 11:23:28 -0400 (Thu, 30 Oct 2025) EllapsedTime: 44.2 seconds RetCode: 0 Status: OK PackageFile: iModMixData_1.1.0.tar.gz PackageFileSize: 11.37 KiB