Package: humanStemCell Version: 0.51.0 Command: /home/biocbuild/bbs-3.23-bioc/R/bin/R CMD INSTALL humanStemCell StartedAt: 2025-10-30 11:06:59 -0400 (Thu, 30 Oct 2025) EndedAt: 2025-10-30 11:06:59 -0400 (Thu, 30 Oct 2025) EllapsedTime: 0.2 seconds RetCode: 1 Status: ERROR