Package: humanStemCell Version: 0.51.0 Command: /home/biocbuild/bbs-3.23-bioc/R/bin/R CMD build --keep-empty-dirs --no-resave-data humanStemCell StartedAt: 2025-10-30 11:22:26 -0400 (Thu, 30 Oct 2025) EndedAt: 2025-10-30 11:23:31 -0400 (Thu, 30 Oct 2025) EllapsedTime: 64.5 seconds RetCode: 0 Status: OK PackageFile: humanStemCell_0.51.0.tar.gz PackageFileSize: 30.64 MiB