Package: humanHippocampus2024 Version: 1.3.0 Command: /home/biocbuild/bbs-3.23-bioc/R/bin/R CMD INSTALL humanHippocampus2024 StartedAt: 2025-10-30 10:59:30 -0400 (Thu, 30 Oct 2025) EndedAt: 2025-10-30 10:59:51 -0400 (Thu, 30 Oct 2025) EllapsedTime: 21.4 seconds RetCode: 0 Status: OK