Package: humanHippocampus2024 Version: 1.3.0 Command: /home/biocbuild/bbs-3.23-bioc/R/bin/R CMD check --install=check:humanHippocampus2024.install-out.txt --library=/home/biocbuild/bbs-3.23-bioc/R/site-library --timings humanHippocampus2024_1.3.0.tar.gz StartedAt: 2025-10-30 12:20:55 -0400 (Thu, 30 Oct 2025) EndedAt: 2025-10-30 12:28:43 -0400 (Thu, 30 Oct 2025) EllapsedTime: 467.8 seconds RetCode: 0 Status: OK CheckDir: humanHippocampus2024.Rcheck Warnings: 0