Package: hgu133plus2CellScore Version: 1.31.0 Command: /home/biocbuild/bbs-3.23-bioc/R/bin/R CMD INSTALL hgu133plus2CellScore StartedAt: 2025-11-13 10:56:34 -0500 (Thu, 13 Nov 2025) EndedAt: 2025-11-13 10:56:56 -0500 (Thu, 13 Nov 2025) EllapsedTime: 21.4 seconds RetCode: 0 Status: OK