Package: healthyFlowData Version: 1.49.0 Command: /home/biocbuild/bbs-3.23-bioc/R/bin/R CMD INSTALL healthyFlowData StartedAt: 2025-10-30 10:56:47 -0400 (Thu, 30 Oct 2025) EndedAt: 2025-10-30 10:56:51 -0400 (Thu, 30 Oct 2025) EllapsedTime: 4.0 seconds RetCode: 0 Status: OK