Package: healthyFlowData Version: 1.49.0 Command: /home/biocbuild/bbs-3.23-bioc/R/bin/R CMD check --install=check:healthyFlowData.install-out.txt --library=/home/biocbuild/bbs-3.23-bioc/R/site-library --timings healthyFlowData_1.49.0.tar.gz StartedAt: 2025-10-30 12:18:06 -0400 (Thu, 30 Oct 2025) EndedAt: 2025-10-30 12:18:40 -0400 (Thu, 30 Oct 2025) EllapsedTime: 34.3 seconds RetCode: 0 Status: OK CheckDir: healthyFlowData.Rcheck Warnings: 0