Package: healthyControlsPresenceChecker Version: 1.15.0 Command: /home/biocbuild/bbs-3.23-bioc/R/bin/R CMD INSTALL healthyControlsPresenceChecker StartedAt: 2025-11-06 11:01:18 -0500 (Thu, 06 Nov 2025) EndedAt: 2025-11-06 11:01:40 -0500 (Thu, 06 Nov 2025) EllapsedTime: 21.7 seconds RetCode: 0 Status: OK