Package: harbChIP Version: 1.49.0 Command: /home/biocbuild/bbs-3.23-bioc/R/bin/R CMD build --keep-empty-dirs --no-resave-data harbChIP StartedAt: 2025-10-30 11:19:22 -0400 (Thu, 30 Oct 2025) EndedAt: 2025-10-30 11:19:45 -0400 (Thu, 30 Oct 2025) EllapsedTime: 23.6 seconds RetCode: 0 Status: OK PackageFile: harbChIP_1.49.0.tar.gz PackageFileSize: 7.204 MiB