Package: hapmapsnp6 Version: 1.53.0 Command: /home/biocbuild/bbs-3.23-bioc/R/bin/R CMD INSTALL hapmapsnp6 StartedAt: 2025-11-27 10:55:22 -0500 (Thu, 27 Nov 2025) EndedAt: 2025-11-27 10:55:48 -0500 (Thu, 27 Nov 2025) EllapsedTime: 25.7 seconds RetCode: 0 Status: OK