Package: hapmap100kxba Version: 1.53.0 Command: /home/biocbuild/bbs-3.23-bioc/R/bin/R CMD check --install=check:hapmap100kxba.install-out.txt --library=/home/biocbuild/bbs-3.23-bioc/R/site-library --timings hapmap100kxba_1.53.0.tar.gz StartedAt: 2025-11-06 12:24:04 -0500 (Thu, 06 Nov 2025) EndedAt: 2025-11-06 12:24:21 -0500 (Thu, 06 Nov 2025) EllapsedTime: 17.3 seconds RetCode: 0 Status: OK CheckDir: hapmap100kxba.Rcheck Warnings: 0