Package: h5vcData Version: 2.31.0 Command: /home/biocbuild/bbs-3.23-bioc/R/bin/R CMD check --install=check:h5vcData.install-out.txt --library=/home/biocbuild/bbs-3.23-bioc/R/site-library --timings h5vcData_2.31.0.tar.gz StartedAt: 2025-11-27 12:26:27 -0500 (Thu, 27 Nov 2025) EndedAt: 2025-11-27 12:26:42 -0500 (Thu, 27 Nov 2025) EllapsedTime: 15.0 seconds RetCode: 0 Status: OK CheckDir: h5vcData.Rcheck Warnings: 0