Package: genomationData Version: 1.41.0 Command: /home/biocbuild/bbs-3.22-bioc/R/bin/R CMD INSTALL genomationData StartedAt: 2025-10-07 10:55:49 -0400 (Tue, 07 Oct 2025) EndedAt: 2025-10-07 10:55:50 -0400 (Tue, 07 Oct 2025) EllapsedTime: 1.3 seconds RetCode: 0 Status: OK