Package: geneLenDataBase Version: 1.47.0 Command: /home/biocbuild/bbs-3.23-bioc/R/bin/R CMD build --keep-empty-dirs --no-resave-data geneLenDataBase StartedAt: 2025-10-30 11:17:30 -0400 (Thu, 30 Oct 2025) EndedAt: 2025-10-30 11:18:26 -0400 (Thu, 30 Oct 2025) EllapsedTime: 56.0 seconds RetCode: 0 Status: OK PackageFile: geneLenDataBase_1.47.0.tar.gz PackageFileSize: 95.79 MiB