Package: gcspikelite Version: 1.49.0 Command: /home/biocbuild/bbs-3.23-bioc/R/bin/R CMD check --install=check:gcspikelite.install-out.txt --library=/home/biocbuild/bbs-3.23-bioc/R/site-library --timings gcspikelite_1.49.0.tar.gz StartedAt: 2025-10-30 12:14:19 -0400 (Thu, 30 Oct 2025) EndedAt: 2025-10-30 12:14:36 -0400 (Thu, 30 Oct 2025) EllapsedTime: 17.0 seconds RetCode: 0 Status: WARNINGS CheckDir: gcspikelite.Rcheck Warnings: 1