Package: gcspikelite Version: 1.49.0 Command: /home/biocbuild/bbs-3.23-bioc/R/bin/R CMD build --keep-empty-dirs --no-resave-data gcspikelite StartedAt: 2025-10-30 11:17:13 -0400 (Thu, 30 Oct 2025) EndedAt: 2025-10-30 11:18:06 -0400 (Thu, 30 Oct 2025) EllapsedTime: 52.8 seconds RetCode: 0 Status: OK PackageFile: gcspikelite_1.49.0.tar.gz PackageFileSize: 21.63 MiB