Package: gageData Version: 2.49.0 Command: /home/biocbuild/bbs-3.23-bioc/R/bin/R CMD build --keep-empty-dirs --no-resave-data gageData StartedAt: 2025-10-30 11:17:07 -0400 (Thu, 30 Oct 2025) EndedAt: 2025-10-30 11:17:12 -0400 (Thu, 30 Oct 2025) EllapsedTime: 5.0 seconds RetCode: 0 Status: OK PackageFile: gageData_2.49.0.tar.gz PackageFileSize: 10.59 MiB