Package: gDRtestData Version: 1.9.1 Command: /home/biocbuild/bbs-3.23-bioc/R/bin/R CMD INSTALL gDRtestData StartedAt: 2025-10-30 10:56:11 -0400 (Thu, 30 Oct 2025) EndedAt: 2025-10-30 10:56:14 -0400 (Thu, 30 Oct 2025) EllapsedTime: 2.9 seconds RetCode: 0 Status: OK