Package: gDRtestData Version: 1.9.1 Command: /home/biocbuild/bbs-3.23-bioc/R/bin/R CMD build --keep-empty-dirs --no-resave-data gDRtestData StartedAt: 2025-10-30 11:17:25 -0400 (Thu, 30 Oct 2025) EndedAt: 2025-10-30 11:17:30 -0400 (Thu, 30 Oct 2025) EllapsedTime: 5.0 seconds RetCode: 0 Status: OK PackageFile: gDRtestData_1.9.1.tar.gz PackageFileSize: 8.156 MiB