Package: furrowSeg Version: 1.39.0 Command: /home/biocbuild/bbs-3.23-bioc/R/bin/R CMD build --keep-empty-dirs --no-resave-data furrowSeg StartedAt: 2025-10-30 11:16:41 -0400 (Thu, 30 Oct 2025) EndedAt: 2025-10-30 11:21:41 -0400 (Thu, 30 Oct 2025) EllapsedTime: 299.9 seconds RetCode: 0 Status: OK PackageFile: furrowSeg_1.39.0.tar.gz PackageFileSize: 349.3 MiB