Package: frmaExampleData Version: 1.47.0 Command: /home/biocbuild/bbs-3.23-bioc/R/bin/R CMD check --install=check:frmaExampleData.install-out.txt --library=/home/biocbuild/bbs-3.23-bioc/R/site-library --timings frmaExampleData_1.47.0.tar.gz StartedAt: 2025-11-06 12:20:26 -0500 (Thu, 06 Nov 2025) EndedAt: 2025-11-06 12:22:17 -0500 (Thu, 06 Nov 2025) EllapsedTime: 110.6 seconds RetCode: 0 Status: WARNINGS CheckDir: frmaExampleData.Rcheck Warnings: 2