Package: fourDNData Version: 1.11.0 Command: /home/biocbuild/bbs-3.23-bioc/R/bin/R CMD check --install=check:fourDNData.install-out.txt --library=/home/biocbuild/bbs-3.23-bioc/R/site-library --timings fourDNData_1.11.0.tar.gz StartedAt: 2025-11-20 12:31:43 -0500 (Thu, 20 Nov 2025) EndedAt: 2025-11-20 12:33:55 -0500 (Thu, 20 Nov 2025) EllapsedTime: 131.8 seconds RetCode: 0 Status: OK CheckDir: fourDNData.Rcheck Warnings: 0