Package: flowPloidyData Version: 1.37.0 Command: /home/biocbuild/bbs-3.23-bioc/R/bin/R CMD build --keep-empty-dirs --no-resave-data flowPloidyData StartedAt: 2025-10-30 11:15:54 -0400 (Thu, 30 Oct 2025) EndedAt: 2025-10-30 11:16:00 -0400 (Thu, 30 Oct 2025) EllapsedTime: 5.7 seconds RetCode: 0 Status: OK PackageFile: flowPloidyData_1.37.0.tar.gz PackageFileSize: 7.099 MiB