Package: fission Version: 1.31.0 Command: /home/biocbuild/bbs-3.23-bioc/R/bin/R CMD INSTALL fission StartedAt: 2025-10-30 10:58:50 -0400 (Thu, 30 Oct 2025) EndedAt: 2025-10-30 10:59:05 -0400 (Thu, 30 Oct 2025) EllapsedTime: 15.1 seconds RetCode: 0 Status: OK