Package: fission Version: 1.31.0 Command: /home/biocbuild/bbs-3.23-bioc/R/bin/R CMD check --install=check:fission.install-out.txt --library=/home/biocbuild/bbs-3.23-bioc/R/site-library --timings fission_1.31.0.tar.gz StartedAt: 2025-11-04 12:17:35 -0500 (Tue, 04 Nov 2025) EndedAt: 2025-11-04 12:18:34 -0500 (Tue, 04 Nov 2025) EllapsedTime: 59.2 seconds RetCode: 0 Status: OK CheckDir: fission.Rcheck Warnings: 0