Package: fission Version: 1.31.0 Command: /home/biocbuild/bbs-3.23-bioc/R/bin/R CMD build --keep-empty-dirs --no-resave-data fission StartedAt: 2025-10-30 11:15:39 -0400 (Thu, 30 Oct 2025) EndedAt: 2025-10-30 11:15:56 -0400 (Thu, 30 Oct 2025) EllapsedTime: 16.9 seconds RetCode: 0 Status: OK PackageFile: fission_1.31.0.tar.gz PackageFileSize: 427 KiB