Package: fibroEset Version: 1.53.0 Command: /home/biocbuild/bbs-3.23-bioc/R/bin/R CMD INSTALL fibroEset StartedAt: 2025-10-30 10:56:35 -0400 (Thu, 30 Oct 2025) EndedAt: 2025-10-30 10:56:38 -0400 (Thu, 30 Oct 2025) EllapsedTime: 3.1 seconds RetCode: 0 Status: OK