Package: fibroEset Version: 1.53.0 Command: /home/biocbuild/bbs-3.23-bioc/R/bin/R CMD check --install=check:fibroEset.install-out.txt --library=/home/biocbuild/bbs-3.23-bioc/R/site-library --timings fibroEset_1.53.0.tar.gz StartedAt: 2025-10-30 12:11:56 -0400 (Thu, 30 Oct 2025) EndedAt: 2025-10-30 12:12:23 -0400 (Thu, 30 Oct 2025) EllapsedTime: 26.3 seconds RetCode: 0 Status: WARNINGS CheckDir: fibroEset.Rcheck Warnings: 1