Package: ffpeExampleData Version: 1.49.0 Command: /home/biocbuild/bbs-3.23-bioc/R/bin/R CMD INSTALL ffpeExampleData StartedAt: 2025-11-27 11:03:07 -0500 (Thu, 27 Nov 2025) EndedAt: 2025-11-27 11:03:36 -0500 (Thu, 27 Nov 2025) EllapsedTime: 28.6 seconds RetCode: 0 Status: OK