Package: fabiaData Version: 1.49.0 Command: /home/biocbuild/bbs-3.23-bioc/R/bin/R CMD INSTALL fabiaData StartedAt: 2025-10-30 10:56:14 -0400 (Thu, 30 Oct 2025) EndedAt: 2025-10-30 10:56:17 -0400 (Thu, 30 Oct 2025) EllapsedTime: 3.3 seconds RetCode: 0 Status: OK