Package: ewceData Version: 1.19.0 Command: /home/biocbuild/bbs-3.23-bioc/R/bin/R CMD build --keep-empty-dirs --no-resave-data ewceData StartedAt: 2025-10-30 11:15:04 -0400 (Thu, 30 Oct 2025) EndedAt: 2025-10-30 11:15:54 -0400 (Thu, 30 Oct 2025) EllapsedTime: 50.1 seconds RetCode: 0 Status: OK PackageFile: ewceData_1.19.0.tar.gz PackageFileSize: 45.37 KiB