Package: eoPredData Version: 1.5.0 Command: /home/biocbuild/bbs-3.23-bioc/R/bin/R CMD check --install=check:eoPredData.install-out.txt --library=/home/biocbuild/bbs-3.23-bioc/R/site-library --timings eoPredData_1.5.0.tar.gz StartedAt: 2025-10-30 12:10:25 -0400 (Thu, 30 Oct 2025) EndedAt: 2025-10-30 12:11:14 -0400 (Thu, 30 Oct 2025) EllapsedTime: 48.6 seconds RetCode: 0 Status: OK CheckDir: eoPredData.Rcheck Warnings: 0