Package: emtdata Version: 1.19.0 Command: /home/biocbuild/bbs-3.23-bioc/R/bin/R CMD INSTALL emtdata StartedAt: 2025-11-20 10:58:52 -0500 (Thu, 20 Nov 2025) EndedAt: 2025-11-20 10:59:01 -0500 (Thu, 20 Nov 2025) EllapsedTime: 9.2 seconds RetCode: 0 Status: OK