Package: ecoliLeucine Version: 1.51.0 Command: /home/biocbuild/bbs-3.23-bioc/R/bin/R CMD check --install=check:ecoliLeucine.install-out.txt --library=/home/biocbuild/bbs-3.23-bioc/R/site-library --timings ecoliLeucine_1.51.0.tar.gz StartedAt: 2025-10-30 12:10:11 -0400 (Thu, 30 Oct 2025) EndedAt: 2025-10-30 12:10:16 -0400 (Thu, 30 Oct 2025) EllapsedTime: 5.0 seconds RetCode: 1 Status: ERROR CheckDir: ecoliLeucine.Rcheck Warnings: NA