Package: ecoliLeucine Version: 1.51.0 Command: /home/biocbuild/bbs-3.23-bioc/R/bin/R CMD build --keep-empty-dirs --no-resave-data ecoliLeucine StartedAt: 2025-10-30 11:14:22 -0400 (Thu, 30 Oct 2025) EndedAt: 2025-10-30 11:14:24 -0400 (Thu, 30 Oct 2025) EllapsedTime: 2.0 seconds RetCode: 0 Status: OK PackageFile: ecoliLeucine_1.51.0.tar.gz PackageFileSize: 5.936 MiB