Package: easierData Version: 1.17.0 Command: /home/biocbuild/bbs-3.23-bioc/R/bin/R CMD check --install=check:easierData.install-out.txt --library=/home/biocbuild/bbs-3.23-bioc/R/site-library --timings easierData_1.17.0.tar.gz StartedAt: 2025-11-06 12:16:06 -0500 (Thu, 06 Nov 2025) EndedAt: 2025-11-06 12:19:48 -0500 (Thu, 06 Nov 2025) EllapsedTime: 222.1 seconds RetCode: 0 Status: OK CheckDir: easierData.Rcheck Warnings: 0