Package: dyebiasexamples Version: 1.51.0 Command: /home/biocbuild/bbs-3.23-bioc/R/bin/R CMD INSTALL dyebiasexamples StartedAt: 2025-10-30 11:00:10 -0400 (Thu, 30 Oct 2025) EndedAt: 2025-10-30 11:00:35 -0400 (Thu, 30 Oct 2025) EllapsedTime: 24.3 seconds RetCode: 0 Status: OK