Package: dyebiasexamples Version: 1.51.0 Command: /home/biocbuild/bbs-3.23-bioc/R/bin/R CMD check --install=check:dyebiasexamples.install-out.txt --library=/home/biocbuild/bbs-3.23-bioc/R/site-library --timings dyebiasexamples_1.51.0.tar.gz StartedAt: 2025-10-30 12:09:37 -0400 (Thu, 30 Oct 2025) EndedAt: 2025-10-30 12:11:25 -0400 (Thu, 30 Oct 2025) EllapsedTime: 108.1 seconds RetCode: 0 Status: WARNINGS CheckDir: dyebiasexamples.Rcheck Warnings: 5