Package: dyebiasexamples Version: 1.51.0 Command: /home/biocbuild/bbs-3.23-bioc/R/bin/R CMD build --keep-empty-dirs --no-resave-data dyebiasexamples StartedAt: 2025-10-30 11:14:08 -0400 (Thu, 30 Oct 2025) EndedAt: 2025-10-30 11:14:16 -0400 (Thu, 30 Oct 2025) EllapsedTime: 8.0 seconds RetCode: 0 Status: OK PackageFile: dyebiasexamples_1.51.0.tar.gz PackageFileSize: 15.2 MiB