Package: dorothea Version: 1.23.0 Command: /home/biocbuild/bbs-3.23-bioc/R/bin/R CMD check --install=check:dorothea.install-out.txt --library=/home/biocbuild/bbs-3.23-bioc/R/site-library --timings dorothea_1.23.0.tar.gz StartedAt: 2025-10-30 12:07:24 -0400 (Thu, 30 Oct 2025) EndedAt: 2025-10-30 12:10:23 -0400 (Thu, 30 Oct 2025) EllapsedTime: 178.1 seconds RetCode: 0 Status: OK CheckDir: dorothea.Rcheck Warnings: 0