Package: dorothea Version: 1.23.0 Command: /home/biocbuild/bbs-3.23-bioc/R/bin/R CMD build --keep-empty-dirs --no-resave-data dorothea StartedAt: 2025-10-30 11:13:35 -0400 (Thu, 30 Oct 2025) EndedAt: 2025-10-30 11:15:41 -0400 (Thu, 30 Oct 2025) EllapsedTime: 125.4 seconds RetCode: 0 Status: OK PackageFile: dorothea_1.23.0.tar.gz PackageFileSize: 34.04 MiB