Package: dominatRData Version: 0.99.1 Command: /home/biocbuild/bbs-3.23-bioc/R/bin/R CMD INSTALL dominatRData StartedAt: 2025-11-06 10:55:26 -0500 (Thu, 06 Nov 2025) EndedAt: 2025-11-06 10:55:29 -0500 (Thu, 06 Nov 2025) EllapsedTime: 2.9 seconds RetCode: 0 Status: OK