Package: dominatRData Version: 0.99.1 Command: /home/biocbuild/bbs-3.23-bioc/R/bin/R CMD build --keep-empty-dirs --no-resave-data dominatRData StartedAt: 2025-11-06 11:15:14 -0500 (Thu, 06 Nov 2025) EndedAt: 2025-11-06 11:15:18 -0500 (Thu, 06 Nov 2025) EllapsedTime: 4.0 seconds RetCode: 0 Status: OK PackageFile: dominatRData_0.99.1.tar.gz PackageFileSize: 728.1 KiB