Package: dominatRData Version: 0.99.1 Maintainer: Simon Lizarazo MaintainerEmail: silizarazoch at gmail.com git_url: https://git.bioconductor.org/packages/dominatRData git_branch: devel git_last_commit: eca9c4c git_last_commit_date: 2025-10-22 12:32:24 -0500 (Wed, 22 Oct 2025)