Package: diggitdata Version: 1.43.0 Command: /home/biocbuild/bbs-3.23-bioc/R/bin/R CMD check --install=check:diggitdata.install-out.txt --library=/home/biocbuild/bbs-3.23-bioc/R/site-library --timings diggitdata_1.43.0.tar.gz StartedAt: 2025-11-20 12:23:11 -0500 (Thu, 20 Nov 2025) EndedAt: 2025-11-20 12:24:12 -0500 (Thu, 20 Nov 2025) EllapsedTime: 61.3 seconds RetCode: 0 Status: OK CheckDir: diggitdata.Rcheck Warnings: 0