Package: derfinderData Version: 2.29.0 Command: /home/biocbuild/bbs-3.23-bioc/R/bin/R CMD INSTALL derfinderData StartedAt: 2025-10-30 10:56:05 -0400 (Thu, 30 Oct 2025) EndedAt: 2025-10-30 10:56:07 -0400 (Thu, 30 Oct 2025) EllapsedTime: 2.3 seconds RetCode: 0 Status: OK