Package: derfinderData Version: 2.29.0 Command: /home/biocbuild/bbs-3.23-bioc/R/bin/R CMD build --keep-empty-dirs --no-resave-data derfinderData StartedAt: 2025-10-30 11:12:47 -0400 (Thu, 30 Oct 2025) EndedAt: 2025-10-30 11:12:55 -0400 (Thu, 30 Oct 2025) EllapsedTime: 8.0 seconds RetCode: 0 Status: OK PackageFile: derfinderData_2.29.0.tar.gz PackageFileSize: 25.57 MiB