Package: depmap Version: 1.25.0 Command: /home/biocbuild/bbs-3.23-bioc/R/bin/R CMD check --install=check:depmap.install-out.txt --library=/home/biocbuild/bbs-3.23-bioc/R/site-library --timings depmap_1.25.0.tar.gz StartedAt: 2025-11-27 12:12:22 -0500 (Thu, 27 Nov 2025) EndedAt: 2025-11-27 12:22:53 -0500 (Thu, 27 Nov 2025) EllapsedTime: 630.6 seconds RetCode: 0 Status: OK CheckDir: depmap.Rcheck Warnings: 0