Package: davidTiling Version: 1.51.0 Command: /home/biocbuild/bbs-3.23-bioc/R/bin/R CMD check --install=check:davidTiling.install-out.txt --library=/home/biocbuild/bbs-3.23-bioc/R/site-library --timings davidTiling_1.51.0.tar.gz StartedAt: 2025-11-20 12:21:03 -0500 (Thu, 20 Nov 2025) EndedAt: 2025-11-20 12:25:28 -0500 (Thu, 20 Nov 2025) EllapsedTime: 264.4 seconds RetCode: 0 Status: WARNINGS CheckDir: davidTiling.Rcheck Warnings: 1